Workbook
Name cntr_dd_col: INDEX(cntr_tbl_choices,,Export!cntr_dd_col_num)
Name cntr_dd_col: INDEX(cntr_tbl_choices,,Import!cntr_dd_col_num)
Name cntr_dd_col: INDEX(cntr_tbl_choices,,cntr_dd_col_num)
Name cntr_dd_col_num: MATCH(Export!$C1,cntr_dd_regions,0)
Name cntr_dd_col_num: MATCH(Import!$C1,cntr_dd_regions,0)
Name cntr_dd_col_num: MATCH(#REF!,cntr_dd_regions,0)
Name cntr_dd_regions: 'Master Values'!$BH$6:$BM$6
Name cntr_dd_reps: INDEX(cntr_tbl_choices,,MATCH(Export!$C1048556,cntr_dd_regions,0))
Name cntr_dd_reps: INDEX(cntr_tbl_choices,,MATCH(Import!$C1048556,cntr_dd_regions,0))
Name cntr_dd_reps: INDEX(cntr_tbl_choices,,MATCH(#REF!,cntr_dd_regions,0))
Name cntr_dd_reps2: INDEX(cntr_tbl_choices,1,Export!cntr_dd_col_num) : INDEX(cntr_tbl_choices,COUNTA(Export!cntr_dd_col),Export!cntr_dd_col_num)
Name cntr_dd_reps2: INDEX(cntr_tbl_choices,1,Import!cntr_dd_col_num) : INDEX(cntr_tbl_choices,COUNTA(Import!cntr_dd_col),Import!cntr_dd_col_num)
Name cntr_dd_reps2: INDEX(cntr_tbl_choices,1,cntr_dd_col_num) : INDEX(cntr_tbl_choices,COUNTA(cntr_dd_col),cntr_dd_col_num)
Name cntr_tbl_choices: 'Master Values'!$BH$7:$BM$11
Name dd_col: INDEX(tbl_choices,,Export!dd_col_num)
Name dd_col: INDEX(tbl_choices,,Import!dd_col_num)
Name dd_col: INDEX(tbl_choices,,dd_col_num)
Name dd_col_num: MATCH(Export!#REF!,dd_regions,0)
Name dd_col_num: MATCH(Import!#REF!,dd_regions,0)
Name dd_col_num: MATCH(#REF!,dd_regions,0)
Name dd_regions: 'Master Values'!$K$6:$AN$6
Name dd_reps: INDEX(tbl_choices,,MATCH(Export!#REF!,dd_regions,0))
Name dd_reps: INDEX(tbl_choices,,MATCH(Import!#REF!,dd_regions,0))
Name dd_reps: INDEX(tbl_choices,,MATCH(#REF!,dd_regions,0))
Name dd_reps2: INDEX(tbl_choices,1,Export!dd_col_num) : INDEX(tbl_choices,COUNTA(Export!dd_col),Export!dd_col_num)
Name dd_reps2: INDEX(tbl_choices,1,Import!dd_col_num) : INDEX(tbl_choices,COUNTA(Import!dd_col),Import!dd_col_num)
Name dd_reps2: INDEX(tbl_choices,1,dd_col_num) : INDEX(tbl_choices,COUNTA(dd_col),dd_col_num)
Name from_dd_col: INDEX(from_tbl_choices,,Export!from_dd_col_num)
Name from_dd_col: INDEX(from_tbl_choices,,Import!from_dd_col_num)
Name from_dd_col: INDEX(from_tbl_choices,,from_dd_col_num)
Name from_dd_col_num: MATCH(Export!$F1,from_dd_regions,0)
Name from_dd_col_num: MATCH(Import!$F1,from_dd_regions,0)
Name from_dd_col_num: MATCH(#REF!,from_dd_regions,0)
Name from_dd_regions: 'Master Values'!$BO$6:$BP$6
Name from_dd_reps: INDEX(from_tbl_choices,,MATCH(Export!$F1,from_dd_regions,0))
Name from_dd_reps: INDEX(from_tbl_choices,,MATCH(Import!$F1,from_dd_regions,0))
Name from_dd_reps: INDEX(from_tbl_choices,,MATCH(#REF!,from_dd_regions,0))
Name from_dd_reps2: INDEX(from_tbl_choices,1,Export!from_dd_col_num) : INDEX(from_tbl_choices,COUNTA(Export!from_dd_col),Export!from_dd_col_num)
Name from_dd_reps2: INDEX(from_tbl_choices,1,Import!from_dd_col_num) : INDEX(from_tbl_choices,COUNTA(Import!from_dd_col),Import!from_dd_col_num)
Name from_dd_reps2: INDEX(from_tbl_choices,1,from_dd_col_num) : INDEX(from_tbl_choices,COUNTA(from_dd_col),from_dd_col_num)
Name from_tbl_choices: 'Master Values'!$BO$7:$BP$1003
Name master_choices: 'Master Values'!$F$7:$F$36
Name slab_dd_col: INDEX(slab_tbl_choices,,Export!slab_dd_col_num)
Name slab_dd_col: INDEX(slab_tbl_choices,,Import!slab_dd_col_num)
Name slab_dd_col: INDEX(slab_tbl_choices,,slab_dd_col_num)
Name slab_dd_col_num: MATCH(Export!$C1,slab_dd_regions,0)
Name slab_dd_col_num: MATCH(Import!$C1,slab_dd_regions,0)
Name slab_dd_col_num: MATCH(#REF!,slab_dd_regions,0)
Name slab_dd_regions: 'Master Values'!$AP$6:$AU$6
Name slab_dd_reps: INDEX(slab_tbl_choices,,MATCH(Export!$C1,slab_dd_regions,0))
Name slab_dd_reps: INDEX(slab_tbl_choices,,MATCH(Import!$C1,slab_dd_regions,0))
Name slab_dd_reps: INDEX(slab_tbl_choices,,MATCH(#REF!,slab_dd_regions,0))
Name slab_dd_reps2: INDEX(slab_tbl_choices,1,Export!slab_dd_col_num) : INDEX(slab_tbl_choices,COUNTA(Export!slab_dd_col),Export!slab_dd_col_num)
Name slab_dd_reps2: INDEX(slab_tbl_choices,1,Import!slab_dd_col_num) : INDEX(slab_tbl_choices,COUNTA(Import!slab_dd_col),Import!slab_dd_col_num)
Name slab_dd_reps2: INDEX(slab_tbl_choices,1,slab_dd_col_num) : INDEX(slab_tbl_choices,COUNTA(slab_dd_col),slab_dd_col_num)
Name slab_tbl_choices: 'Master Values'!$AP$7:$AU$8
Name tbl_choices: 'Master Values'!$K$7:$AN$12
Name type_dd_col: INDEX(type_tbl_choices,,Export!type_dd_col_num)
Name type_dd_col: INDEX(type_tbl_choices,,Import!type_dd_col_num)
Name type_dd_col: INDEX(type_tbl_choices,,type_dd_col_num)

Sheet Export
A1: Trade Type | B1: Tariff Description (Non-standardized/Misc) | C1: UOM | D1: Contr Size | E1: Cargo Type | F1: Slabs Single/Multiple | G1: Slab variable description | H1: Slab From | I1: Slab To | J1: Currency | K1: Rate | L1: VAT Applicable | M1: VAT %age | N1: Remarks (free text)
A2: Export | B2: BILL OF LADING FEE | C2: Per Document | D2: All - Any container size | E2: Misc | F2: Single | J2: AED | K2: 575 | L2: Zero rated | M2: =IFERROR(INDEX('Master Values'!$D$52:$D$54,MATCH(Export!L2,'Master Values'!$C$53:$C$55,0)),"") -> 0
A3: Export | B3: AMENDMENT CHARGES | C3: Per Document | D3: All - Any container size | E3: Misc | F3: Single | J3: AED | K3: 368 | L3: Zero rated | M3: =IFERROR(INDEX('Master Values'!$D$52:$D$54,MATCH(Export!L3,'Master Values'!$C$53:$C$55,0)),"") -> 0
A4: Export | B4: CERTIFICATE | C4: Per Document | D4: All - Any container size | E4: Misc | F4: Single | J4: AED | K4: 150 | L4: Zero rated | M4: =IFERROR(INDEX('Master Values'!$D$52:$D$54,MATCH(Export!L4,'Master Values'!$C$53:$C$55,0)),"") -> 0
A5: Export | B5: SEAL CHARGE | C5: Per Seal | D5: All - Any container size | E5: Misc | F5: Single | J5: AED | K5: 35 | L5: Zero rated | M5: =IFERROR(INDEX('Master Values'!$D$52:$D$54,MATCH(Export!L5,'Master Values'!$C$53:$C$55,0)),"") -> 0
A6: Export | B6: SPECIAL GEAR CHARGES-EXP | C6: Per Container | D6: All - Any container size | E6: Misc | F6: Single | J6: AED | K6: 1250 | L6: Zero rated | M6: =IFERROR(INDEX('Master Values'!$D$52:$D$54,MATCH(Export!L6,'Master Values'!$C$53:$C$55,0)),"") -> 0
A7: Export | B7: OHC 20 FOOTER | C7: Per Container | D7: 20 | E7: Dry - general/FAK | F7: Single | J7: AED | K7: 1090 | L7: Zero rated | M7: =IFERROR(INDEX('Master Values'!$D$52:$D$54,MATCH(Export!L7,'Master Values'!$C$53:$C$55,0)),"") -> 0
A8: Export | B8: OHC 40 FOOTER | C8: Per Container | D8: 40 | E8: Dry - general/FAK | F8: Single | J8: AED | K8: 1520 | L8: Zero rated | M8: =IFERROR(INDEX('Master Values'!$D$52:$D$54,MATCH(Export!L8,'Master Values'!$C$53:$C$55,0)),"") -> 0
A9: Export | B9: IMCO OHC 20 FOOTER | C9: Per Container | D9: 20 | E9: Hazardous | F9: Single | J9: AED | K9: 1635 | L9: Zero rated | M9: =IFERROR(INDEX('Master Values'!$D$52:$D$54,MATCH(Export!L9,'Master Values'!$C$53:$C$55,0)),"") -> 0
A10: Export | B10: IMCO OHC 40 FOOTER | C10: Per Container | D10: 40 | E10: Hazardous | F10: Single | J10: AED | K10: 2280 | L10: Zero rated | M10: =IFERROR(INDEX('Master Values'!$D$52:$D$54,MATCH(Export!L10,'Master Values'!$C$53:$C$55,0)),"") -> 0
A11: Export | B11: CUSTOMS MANIFEST AMENDMENT CHARGES | C11: Per Document | D11: All - Any container size | E11: Misc | F11: Single | J11: AED | K11: 10 | L11: Zero rated | M11: =IFERROR(INDEX('Master Values'!$D$52:$D$54,MATCH(Export!L11,'Master Values'!$C$53:$C$55,0)),"") -> 0
A12: Export | B12: BL RE ISSUE CHARGS | C12: Per Document | D12: All - Any container size | E12: Misc | F12: Single | J12: AED | K12: 575 | L12: Zero rated
A13: Export | B13: CHANGE OF VESSEL | C13: Per Container | D13: All - Any container size | E13: Misc | F13: Single | J13: AED | K13: 80 | L13: Zero rated | M13: =IFERROR(INDEX('Master Values'!$D$52:$D$54,MATCH(Export!L13,'Master Values'!$C$53:$C$55,0)),"") -> 0
A14: Export | B14: LOAD LIST DELETION | C14: Per Container | D14: All - Any container size | E14: Misc | F14: Single | J14: AED | K14: 40 | L14: Zero rated | M14: =IFERROR(INDEX('Master Values'!$D$52:$D$54,MATCH(Export!L14,'Master Values'!$C$53:$C$55,0)),"") -> 0
A15: Export | B15: TLUC CHARGES | C15: Per Container | D15: All - Any container size | E15: Misc | F15: Single | J15: AED | K15: 314 | L15: Zero rated | M15: =IFERROR(INDEX('Master Values'!$D$52:$D$54,MATCH(Export!L15,'Master Values'!$C$53:$C$55,0)),"") -> 0
A16: Export | B16: DETENTION CHARGES /FIRST SLAB 20FT | C16: Per Container/Day | D16: 20 | E16: Dry - general/FAK | F16: Multiple | G16: Per Day | H16: 1 | I16: 4 | J16: AED | K16: 100 | L16: Standard rated | M16: =IFERROR(INDEX('Master Values'!$D$52:$D$54,MATCH(Export!L16,'Master Values'!$C$53:$C$55,0)),"") -> 0.05
A17: Export | B17: DETENTION CHARGES / SECOND SLAB 20FT | C17: Per Container/Day | D17: 20 | E17: Dry - general/FAK | F17: Multiple | G17: Per Day | H17: 5 | I17: 9 | J17: AED | K17: 175 | L17: Standard rated | M17: =IFERROR(INDEX('Master Values'!$D$52:$D$54,MATCH(Export!L17,'Master Values'!$C$53:$C$55,0)),"") -> 0.05
A18: Export | B18: DETENTION CHARGES / THIRD SLAB 20FT | C18: Per Container/Day | D18: 20 | E18: Dry - general/FAK | F18: Multiple | G18: Per Day | H18: 10 | I18: 999999 | J18: AED | K18: 350 | L18: Standard rated | M18: =IFERROR(INDEX('Master Values'!$D$52:$D$54,MATCH(Export!L18,'Master Values'!$C$53:$C$55,0)),"") -> 0.05
A19: Export | B19: DETENTION CHARGES / FIRST SLAB 40FT | C19: Per Container/Day | D19: 40 | E19: Dry - general/FAK | F19: Multiple | G19: Per Day | H19: 1 | I19: 4 | J19: AED | K19: 200 | L19: Standard rated | M19: =IFERROR(INDEX('Master Values'!$D$52:$D$54,MATCH(Export!L19,'Master Values'!$C$53:$C$55,0)),"") -> 0.05
A20: Export | B20: DETENTION CHARGES / SECOND SLAB 40FT | C20: Per Container/Day | D20: 40 | E20: Dry - general/FAK | F20: Multiple | G20: Per Day | H20: 5 | I20: 9 | J20: AED | K20: 350 | L20: Standard rated | M20: =IFERROR(INDEX('Master Values'!$D$52:$D$54,MATCH(Export!L20,'Master Values'!$C$53:$C$55,0)),"") -> 0.05
A21: Export | B21: DETENTION CHARGES / THIRD SLAB 40FT | C21: Per Container/Day | D21: 40 | E21: Dry - general/FAK | F21: Multiple | G21: Per Day | H21: 10 | I21: 999999 | J21: AED | K21: 500 | L21: Standard rated | M21: =IFERROR(INDEX('Master Values'!$D$52:$D$54,MATCH(Export!L21,'Master Values'!$C$53:$C$55,0)),"") -> 0.05
A22: Export | B22: DETENTION CHARGES SPL 20 / FIRST SLAB | C22: Per Container/Day | D22: 20 | E22: Misc | F22: Multiple | G22: Per Day | H22: 1 | I22: 4 | J22: AED | K22: 200 | L22: Standard rated | M22: =IFERROR(INDEX('Master Values'!$D$52:$D$54,MATCH(Export!L22,'Master Values'!$C$53:$C$55,0)),"") -> 0.05 | N22: SPECIAL EQUIPT
A23: Export | B23: DETENTION CHARGES SPL 20 / SECOND SLAB | C23: Per Container/Day | D23: 20 | E23: Misc | F23: Multiple | G23: Per Day | H23: 5 | I23: 11 | J23: AED | K23: 350 | L23: Standard rated | M23: =IFERROR(INDEX('Master Values'!$D$52:$D$54,MATCH(Export!L23,'Master Values'!$C$53:$C$55,0)),"") -> 0.05 | N23: SPECIAL EQUIPT
A24: Export | B24: DETENTION CHARGES SPL 20 / THIRD SLAB | C24: Per Container/Day | D24: 20 | E24: Misc | F24: Multiple | G24: Per Day | H24: 12 | I24: 999999 | J24: AED | K24: 700 | L24: Standard rated | M24: =IFERROR(INDEX('Master Values'!$D$52:$D$54,MATCH(Export!L24,'Master Values'!$C$53:$C$55,0)),"") -> 0.05 | N24: SPECIAL EQUIPT
A25: Export | B25: DETENTION CHARGES SPL 40 / FIRST SLABS | C25: Per Container/Day | D25: 40 | E25: Misc | F25: Multiple | G25: Per Day | H25: 1 | I25: 4 | J25: AED | K25: 400 | L25: Standard rated | M25: =IFERROR(INDEX('Master Values'!$D$52:$D$54,MATCH(Export!L25,'Master Values'!$C$53:$C$55,0)),"") -> 0.05 | N25: SPECIAL EQUIPT
A26: Export | B26: DETENTION CHARGES SPL 40 / SECOND SLAB | C26: Per Container/Day | D26: 40 | E26: Misc | F26: Multiple | G26: Per Day | H26: 5 | I26: 11 | J26: AED | K26: 700 | L26: Standard rated | M26: =IFERROR(INDEX('Master Values'!$D$52:$D$54,MATCH(Export!L26,'Master Values'!$C$53:$C$55,0)),"") -> 0.05 | N26: SPECIAL EQUIPT
A27: Export | B27: DETENTION CHARGES SPL 40 / THIRD SLAB | C27: Per Container/Day | D27: 40 | E27: Misc | F27: Multiple | G27: Per Day | H27: 12 | I27: 999999 | J27: AED | K27: 1200 | L27: Standard rated | M27: =IFERROR(INDEX('Master Values'!$D$52:$D$54,MATCH(Export!L27,'Master Values'!$C$53:$C$55,0)),"") -> 0.05 | N27: SPECIAL EQUIPT
A28: Export | B28: DETENTION CHARGES 20 RF / FIRST SLAB | C28: Per Container/Day | D28: 20 | E28: Reefer | F28: Multiple | G28: Per Day | H28: 1 | I28: 4 | J28: AED | K28: 300 | L28: Standard rated | M28: =IFERROR(INDEX('Master Values'!$D$52:$D$54,MATCH(Export!L28,'Master Values'!$C$53:$C$55,0)),"") -> 0.05
A29: Export | B29: DETENTION CHARGES 20 RF / SECOND SLAB | C29: Per Container/Day | D29: 20 | E29: Reefer | F29: Multiple | G29: Per Day | H29: 5 | I29: 11 | J29: AED | K29: 525 | L29: Standard rated | M29: =IFERROR(INDEX('Master Values'!$D$52:$D$54,MATCH(Export!L29,'Master Values'!$C$53:$C$55,0)),"") -> 0.05
A30: Export | B30: DETENTION CHARGES 20 RF / THID SLAB | C30: Per Container/Day | D30: 20 | E30: Reefer | F30: Multiple | G30: Per Day | H30: 12 | I30: 999999 | J30: AED | K30: 750 | L30: Standard rated | M30: =IFERROR(INDEX('Master Values'!$D$52:$D$54,MATCH(Export!L30,'Master Values'!$C$53:$C$55,0)),"") -> 0.05
A31: Export | B31: DETENTION CHARGES 40 RF / FIRST SLAB | C31: Per Container/Day | D31: 40 | E31: Reefer | F31: Multiple | G31: Per Day | H31: 1 | I31: 4 | J31: AED | K31: 600 | L31: Standard rated | M31: =IFERROR(INDEX('Master Values'!$D$52:$D$54,MATCH(Export!L31,'Master Values'!$C$53:$C$55,0)),"") -> 0.05
A32: Export | B32: DETENTION CHARGES 40 RF / SECOND SLAB | C32: Per Container/Day | D32: 40 | E32: Reefer | F32: Multiple | G32: Per Day | H32: 5 | I32: 11 | J32: AED | K32: 1050 | L32: Standard rated | M32: =IFERROR(INDEX('Master Values'!$D$52:$D$54,MATCH(Export!L32,'Master Values'!$C$53:$C$55,0)),"") -> 0.05
A33: Export | B33: DETENTION CHARGES 40 RF / THIRD SLAB | C33: Per Container/Day | D33: 40 | E33: Reefer | F33: Multiple | G33: Per Day | H33: 12 | I33: 999999 | J33: AED | K33: 1500 | L33: Standard rated | M33: =IFERROR(INDEX('Master Values'!$D$52:$D$54,MATCH(Export!L33,'Master Values'!$C$53:$C$55,0)),"") -> 0.05
A34: Export | B34: PORT STORAGE 20 | C34: Per Container/Day | D34: 20 | E34: Misc | F34: Multiple | G34: Per Day | H34: 1 | I34: 20 | J34: AED | K34: 31 | L34: Zero rated | M34: =IFERROR(INDEX('Master Values'!$D$52:$D$54,MATCH(Export!L34,'Master Values'!$C$53:$C$55,0)),"") -> 0
A35: Export | B35: PORT STORAGE 20 | C35: Per Container/Day | D35: 20 | E35: Misc | F35: Multiple | G35: Per Day | H35: 21 | I35: 50 | J35: AED | K35: 41 | L35: Zero rated | M35: =IFERROR(INDEX('Master Values'!$D$52:$D$54,MATCH(Export!L35,'Master Values'!$C$53:$C$55,0)),"") -> 0
A36: Export | B36: PORT STORAGE 20 | C36: Per Container/Day | D36: 20 | E36: Misc | F36: Multiple | G36: Per Day | H36: 51 | I36: 999999 | J36: AED | K36: 82 | L36: Zero rated | M36: =IFERROR(INDEX('Master Values'!$D$52:$D$54,MATCH(Export!L36,'Master Values'!$C$53:$C$55,0)),"") -> 0
A37: Export | B37: PORT STORAGE 40 | C37: Per Container/Day | D37: 40 | E37: Misc | F37: Multiple | G37: Per Day | H37: 1 | I37: 20 | J37: AED | K37: 62 | L37: Zero rated | M37: =IFERROR(INDEX('Master Values'!$D$52:$D$54,MATCH(Export!L37,'Master Values'!$C$53:$C$55,0)),"") -> 0
A38: Export | B38: PORT STORAGE 40 | C38: Per Container/Day | D38: 40 | E38: Misc | F38: Multiple | G38: Per Day | H38: 21 | I38: 50 | J38: AED | K38: 82 | L38: Zero rated | M38: =IFERROR(INDEX('Master Values'!$D$52:$D$54,MATCH(Export!L38,'Master Values'!$C$53:$C$55,0)),"") -> 0
A39: Export | B39: PORT STORAGE 40 | C39: Per Container/Day | D39: 40 | E39: Misc | F39: Multiple | G39: Per Day | H39: 51 | I39: 999999 | J39: AED | K39: 164 | L39: Zero rated | M39: =IFERROR(INDEX('Master Values'!$D$52:$D$54,MATCH(Export!L39,'Master Values'!$C$53:$C$55,0)),"") -> 0
... A45: Export | B45: PORT STORAGE 40 OOG | C45: Per Container/Day | D45: 40 | E45: Misc | F45: Multiple | G45: Per Day | H45: 51 | I45: 999999 | J45: AED | K45: 482 | L45: Zero rated | M45: =IFERROR(INDEX('Master Values'!$D$52:$D$54,MATCH(Export!L45,'Master Values'!$C$53:$C$55,0)),"") -> 0
A46: Export | B46: PLUG IN CHARGES | C46: Per Container/Day | D46: All - Any container size | E46: Reefer | F46: Single | J46: AED | K46: 160 | L46: Zero rated | M46: =IFERROR(INDEX('Master Values'!$D$52:$D$54,MATCH(Export!L46,'Master Values'!$C$53:$C$55,0)),"") -> 0

Sheet Import
A1: Trade Type | B1: Tariff Description (Non-standardized/Misc) | C1: UOM | D1: Contr Size | E1: Cargo Type | F1: Slabs Single/Multiple | G1: Slab variable description | H1: Slab From | I1: Slab To | J1: Currency | K1: Rate | L1: VAT Applicable | M1: VAT %age | N1: Remarks (free text)
A2: Import | B2: DELIVERY ORDER FEE | C2: Per Document | D2: N/A | E2: Misc | F2: Single | J2: AED | K2: 575 | L2: Zero rated | M2: =IFERROR(INDEX('Master Values'!$D$52:$D$54,MATCH(Import!L2,'Master Values'!$C$53:$C$55,0)),"") -> 0
A3: Import | B3: IMPORT THC 20 FOOTER | C3: Per Container | D3: 20 | E3: Dry - general/FAK | F3: Single | J3: AED | K3: 770 | L3: Zero rated | M3: =IFERROR(INDEX('Master Values'!$D$52:$D$54,MATCH(Import!L3,'Master Values'!$C$53:$C$55,0)),"") -> 0
A4: Import | B4: IMPORT THC 40 FOOTER | C4: Per Container | D4: 40 | E4: Dry - general/FAK | F4: Single | J4: AED | K4: 1200 | L4: Zero rated | M4: =IFERROR(INDEX('Master Values'!$D$52:$D$54,MATCH(Import!L4,'Master Values'!$C$53:$C$55,0)),"") -> 0
A5: Import | B5: IMPORT THC IMCO 20 FOOTER | C5: Per Container | D5: 20 | E5: Hazardous | F5: Single | J5: AED | K5: 1155 | L5: Zero rated | M5: =IFERROR(INDEX('Master Values'!$D$52:$D$54,MATCH(Import!L5,'Master Values'!$C$53:$C$55,0)),"") -> 0
A6: Import | B6: IMPORT THC IMCO 20 OT | C6: Per Container | D6: 20 | E6: Hazardous | F6: Single | J6: AED | K6: 1155 | L6: Zero rated | M6: =IFERROR(INDEX('Master Values'!$D$52:$D$54,MATCH(Import!L6,'Master Values'!$C$53:$C$55,0)),"") -> 0
A7: Import | B7: IMPORT THC IMCO 20 FR | C7: Per Container | D7: 20 | E7: Hazardous | F7: Single | J7: AED | K7: 1155 | L7: Zero rated | M7: =IFERROR(INDEX('Master Values'!$D$52:$D$54,MATCH(Import!L7,'Master Values'!$C$53:$C$55,0)),"") -> 0
A8: Import | B8: IMPORT THC IMCO 40 OT | C8: Per Container | D8: 40 | E8: Hazardous | F8: Single | J8: AED | K8: 1800 | L8: Zero rated | M8: =IFERROR(INDEX('Master Values'!$D$52:$D$54,MATCH(Import!L8,'Master Values'!$C$53:$C$55,0)),"") -> 0
A9: Import | B9: IMPORT THC IMCO 40FR | C9: Per Container | D9: 40 | E9: Hazardous | F9: Single | J9: AED | K9: 1800 | L9: Zero rated | M9: =IFERROR(INDEX('Master Values'!$D$52:$D$54,MATCH(Import!L9,'Master Values'!$C$53:$C$55,0)),"") -> 0
A10: Import | B10: IMPORT THC IMCO 40 FOOTER | C10: Per Container | D10: 40 | E10: Hazardous | F10: Single | J10: AED | K10: 1800 | L10: Zero rated | M10: =IFERROR(INDEX('Master Values'!$D$52:$D$54,MATCH(Import!L10,'Master Values'!$C$53:$C$55,0)),"") -> 0
A11: Import | B11: IMPORT THC 20 OT | C11: Per Container | D11: 20 | E11: Misc | F11: Single | J11: AED | K11: 770 | L11: Zero rated | M11: =IFERROR(INDEX('Master Values'!$D$52:$D$54,MATCH(Import!L11,'Master Values'!$C$53:$C$55,0)),"") -> 0
A12: Import | B12: IMPORT THC 20 FR | C12: Per Container | D12: 20 | E12: Misc | F12: Single | J12: AED | K12: 770 | L12: Zero rated | M12: =IFERROR(INDEX('Master Values'!$D$52:$D$54,MATCH(Import!L12,'Master Values'!$C$53:$C$55,0)),"") -> 0
A13: Import | B13: IMPORT THC 20 OH | C13: Per Container | D13: 20 | E13: Misc | F13: Single | J13: AED | K13: 770 | L13: Zero rated | M13: =IFERROR(INDEX('Master Values'!$D$52:$D$54,MATCH(Import!L13,'Master Values'!$C$53:$C$55,0)),"") -> 0
A14: Import | B14: IMPORT THC 20 RF | C14: Per Container | D14: 20 | E14: Reefer | F14: Single | J14: AED | K14: 770 | L14: Zero rated | M14: =IFERROR(INDEX('Master Values'!$D$52:$D$54,MATCH(Import!L14,'Master Values'!$C$53:$C$55,0)),"") -> 0
... A20: Import | B20: NORMAL WASHING CHARGES 40 | C20: Per Container | D20: 40 | E20: Misc | F20: Single | J20: AED | K20: 115 | L20: Zero rated | M20: =IFERROR(INDEX('Master Values'!$D$52:$D$54,MATCH(Import!L20,'Master Values'!$C$53:$C$55,0)),"") -> 0
A21: Import | B21: CONTANER MAINTENANCE CHARGES | C21: Per Container | D21: All - Any container size | E21: Misc | F21: Single | J21: AED | K21: 45 | L21: Zero rated | M21: =IFERROR(INDEX('Master Values'!$D$52:$D$54,MATCH(Import!L21,'Master Values'!$C$53:$C$55,0)),"") -> 0
A22: Import | B22: CONTAINER IMBALANCE | C22: Per Container | D22: 20 | E22: Misc | F22: Single | J22: AED | K22: 37 | L22: Zero rated | M22: =IFERROR(INDEX('Master Values'!$D$52:$D$54,MATCH(Import!L22,'Master Values'!$C$53:$C$55,0)),"") -> 0
A23: Import | B23: CONTAINER IMBALANCE | C23: Per Container | D23: 40 | E23: Misc | F23: Single | J23: AED | K23: 74 | L23: Zero rated | M23: =IFERROR(INDEX('Master Values'!$D$52:$D$54,MATCH(Import!L23,'Master Values'!$C$53:$C$55,0)),"") -> 0
A24: Import | B24: ISPS CHARGES | C24: Per Container | D24: All - Any container size | E24: Misc | F24: Single | J24: AED | K24: 44 | L24: Zero rated | M24: =IFERROR(INDEX('Master Values'!$D$52:$D$54,MATCH(Import!L24,'Master Values'!$C$53:$C$55,0)),"") -> 0
A25: Import | B25: IMPORT SEAL CHARGE | C25: Per Container | D25: All - Any container size | E25: Misc | F25: Single | J25: AED | K25: 20 | L25: Zero rated | M25: =IFERROR(INDEX('Master Values'!$D$52:$D$54,MATCH(Import!L25,'Master Values'!$C$53:$C$55,0)),"") -> 0
A26: Import | B26: SPECIAL GEAR CHARGES OOG CARGO | C26: Per Container | D26: All - Any container size | E26: Misc | F26: Single | J26: AED | K26: 625 | L26: Zero rated | M26: =IFERROR(INDEX('Master Values'!$D$52:$D$54,MATCH(Import!L26,'Master Values'!$C$53:$C$55,0)),"") -> 0
A27: Import | B27: STOP/RELEASE CHARGES | C27: Per Container | D27: All - Any container size | E27: Misc | F27: Single | J27: AED | K27: 80 | L27: Zero rated | M27: =IFERROR(INDEX('Master Values'!$D$52:$D$54,MATCH(Import!L27,'Master Values'!$C$53:$C$55,0)),"") -> 0
A28: Import | B28: DETENTION CHARGES / FIRST SLAB 20FT | C28: Per Container/Day | D28: 20 | E28: Dry - general/FAK | F28: Multiple | G28: Per Day | H28: 1 | I28: 4 | J28: AED | K28: 100 | L28: Standard rated | M28: =IFERROR(INDEX('Master Values'!$D$52:$D$54,MATCH(Import!L28,'Master Values'!$C$53:$C$55,0)),"") -> 0.05
A29: Import | B29: DETENTION CHARGES / SECOND SLAB 20FT | C29: Per Container/Day | D29: 20 | E29: Dry - general/FAK | F29: Multiple | G29: Per Day | H29: 5 | I29: 9 | J29: AED | K29: 175 | L29: Standard rated | M29: =IFERROR(INDEX('Master Values'!$D$52:$D$54,MATCH(Import!L29,'Master Values'!$C$53:$C$55,0)),"") -> 0.05
A30: Import | B30: DETENTION CHARGES / THIRD SLAB 20FT | C30: Per Container/Day | D30: 20 | E30: Dry - general/FAK | F30: Multiple | G30: Per Day | H30: 10 | I30: 999999 | J30: AED | K30: 350 | L30: Standard rated | M30: =IFERROR(INDEX('Master Values'!$D$52:$D$54,MATCH(Import!L30,'Master Values'!$C$53:$C$55,0)),"") -> 0.05
A31: Import | B31: DETENTION CHARGES / FIRST SLAB 40FT | C31: Per Container/Day | D31: 40 | E31: Dry - general/FAK | F31: Multiple | G31: Per Day | H31: 1 | I31: 4 | J31: AED | K31: 200 | L31: Standard rated | M31: =IFERROR(INDEX('Master Values'!$D$52:$D$54,MATCH(Import!L31,'Master Values'!$C$53:$C$55,0)),"") -> 0.05
A32: Import | B32: DETENTION CHARGES / SECOND SLAB 40FT | C32: Per Container/Day | D32: 40 | E32: Dry - general/FAK | F32: Multiple | G32: Per Day | H32: 5 | I32: 9 | J32: AED | K32: 350 | L32: Standard rated | M32: =IFERROR(INDEX('Master Values'!$D$52:$D$54,MATCH(Import!L32,'Master Values'!$C$53:$C$55,0)),"") -> 0.05
A33: Import | B33: DETENTION CHARGES / THIRD SLAB 40FT | C33: Per Container/Day | D33: 40 | E33: Dry - general/FAK | F33: Multiple | G33: Per Day | H33: 10 | I33: 999999 | J33: AED | K33: 500 | L33: Standard rated | M33: =IFERROR(INDEX('Master Values'!$D$52:$D$54,MATCH(Import!L33,'Master Values'!$C$53:$C$55,0)),"") -> 0.05
A34: Import | B34: DETENTION CHARGES / FIRST SLAB 20 SPL | C34: Per Container/Day | D34: 20 | E34: Misc | F34: Multiple | G34: Per Day | H34: 1 | I34: 4 | J34: AED | K34: 200 | L34: Standard rated | M34: =IFERROR(INDEX('Master Values'!$D$52:$D$54,MATCH(Import!L34,'Master Values'!$C$53:$C$55,0)),"") -> 0.05 | N34: SPECIAL UNITS
A35: Import | B35: DETENTION CHARGES / SECOND SLAB 20 SPL | C35: Per Container/Day | D35: 20 | E35: Misc | F35: Multiple | G35: Per Day | H35: 5 | I35: 11 | J35: AED | K35: 350 | L35: Standard rated | M35: =IFERROR(INDEX('Master Values'!$D$52:$D$54,MATCH(Import!L35,'Master Values'!$C$53:$C$55,0)),"") -> 0.05 | N35: SPECIAL UNITS
A36: Import | B36: DETENTION CHARGES / THIRD SLAB 20 SPL | C36: Per Container/Day | D36: 20 | E36: Misc | F36: Multiple | G36: Per Day | H36: 12 | I36: 999999 | J36: AED | K36: 700 | L36: Standard rated | M36: =IFERROR(INDEX('Master Values'!$D$52:$D$54,MATCH(Import!L36,'Master Values'!$C$53:$C$55,0)),"") -> 0.05 | N36: SPECIAL UNITS
A37: Import | B37: DETENTION CHARGES / FIRST SLAB 40 SPL | C37: Per Container/Day | D37: 40 | E37: Misc | F37: Multiple | G37: Per Day | H37: 1 | I37: 4 | J37: AED | K37: 400 | L37: Standard rated | M37: =IFERROR(INDEX('Master Values'!$D$52:$D$54,MATCH(Import!L37,'Master Values'!$C$53:$C$55,0)),"") -> 0.05 | N37: SPECIAL UNITS
A38: Import | B38: DETENTION CHARGES / SECOND SLAB 40 SPL | C38: Per Container/Day | D38: 40 | E38: Misc | F38: Multiple | G38: Per Day | H38: 5 | I38: 11 | J38: AED | K38: 700 | L38: Standard rated | M38: =IFERROR(INDEX('Master Values'!$D$52:$D$54,MATCH(Import!L38,'Master Values'!$C$53:$C$55,0)),"") -> 0.05 | N38: SPECIAL UNITS
A39: Import | B39: DETENTION CHARGES / THIRD SLAB 40 SPL | C39: Per Container/Day | D39: 40 | E39: Misc | F39: Multiple | G39: Per Day | H39: 12 | I39: 999999 | J39: AED | K39: 1200 | L39: Standard rated | M39: =IFERROR(INDEX('Master Values'!$D$52:$D$54,MATCH(Import!L39,'Master Values'!$C$53:$C$55,0)),"") -> 0.05 | N39: SPECIAL UNITS
A40: Import | B40: DETENTION CHARGES / FIRST SLAB 20RF | C40: Per Container/Day | D40: 20 | E40: Reefer | F40: Multiple | G40: Per Day | H40: 1 | I40: 4 | J40: AED | K40: 300 | L40: Standard rated | M40: =IFERROR(INDEX('Master Values'!$D$52:$D$54,MATCH(Import!L40,'Master Values'!$C$53:$C$55,0)),"") -> 0.05 | N40: REEFER UNIT
A41: Import | B41: DETENTION CHARGES / SECOND SLAB 20RF | C41: Per Container/Day | D41: 20 | E41: Reefer | F41: Multiple | G41: Per Day | H41: 5 | I41: 11 | J41: AED | K41: 525 | L41: Standard rated | M41: =IFERROR(INDEX('Master Values'!$D$52:$D$54,MATCH(Import!L41,'Master Values'!$C$53:$C$55,0)),"") -> 0.05 | N41: REEFER UNIT
A42: Import | B42: DETENTION CHARGES / THIRD SLAB 20RF | C42: Per Container/Day | D42: 20 | E42: Reefer | F42: Multiple | G42: Per Day | H42: 12 | I42: 999999 | J42: AED | K42: 750 | L42: Standard rated | M42: =IFERROR(INDEX('Master Values'!$D$52:$D$54,MATCH(Import!L42,'Master Values'!$C$53:$C$55,0)),"") -> 0.05 | N42: REEFER UNIT
A43: Import | B43: DETENTION CHARGES / FIRST SLAB 40RF | C43: Per Container/Day | D43: 40 | E43: Reefer | F43: Multiple | G43: Per Day | H43: 1 | I43: 4 | J43: AED | K43: 600 | L43: Standard rated | M43: =IFERROR(INDEX('Master Values'!$D$52:$D$54,MATCH(Import!L43,'Master Values'!$C$53:$C$55,0)),"") -> 0.05 | N43: REEFER UNIT
A44: Import | B44: DETENTION CHARGES / SECOND SLAB 40RF | C44: Per Container/Day | D44: 40 | E44: Reefer | F44: Multiple | G44: Per Day | H44: 5 | I44: 11 | J44: AED | K44: 1050 | L44: Standard rated | M44: =IFERROR(INDEX('Master Values'!$D$52:$D$54,MATCH(Import!L44,'Master Values'!$C$53:$C$55,0)),"") -> 0.05 | N44: REEFER UNIT
A45: Import | B45: DETENTION CHARGES / THIRD SLAB 40RF | C45: Per Container/Day | D45: 40 | E45: Reefer | F45: Multiple | G45: Per Day | H45: 12 | I45: 999999 | J45: AED | K45: 1500 | L45: Standard rated | M45: =IFERROR(INDEX('Master Values'!$D$52:$D$54,MATCH(Import!L45,'Master Values'!$C$53:$C$55,0)),"") -> 0.05 | N45: REEFER UNIT
A46: Import | B46: SWITCH BL CHARGES | C46: Per Document | D46: All - Any container size | E46: Misc | F46: Single | J46: AED | K46: 736 | L46: Zero rated | M46: =IFERROR(INDEX('Master Values'!$D$52:$D$54,MATCH(Import!L46,'Master Values'!$C$53:$C$55,0)),"") -> 0
A47: Import | B47: BL EXCHANGE FEE | C47: Per Document | D47: All - Any container size | E47: Misc | F47: Single | J47: AED | K47: 575 | L47: Zero rated | M47: =IFERROR(INDEX('Master Values'!$D$52:$D$54,MATCH(Import!L47,'Master Values'!$C$53:$C$55,0)),"") -> 0
A48: Import | B48: ADMINISTRATION FEE | C48: Per Document | D48: All - Any container size | E48: Misc | F48: Single | J48: AED | K48: 25 | L48: Zero rated | M48: =IFERROR(INDEX('Master Values'!$D$52:$D$54,MATCH(Import!L48,'Master Values'!$C$53:$C$55,0)),"") -> 0

Sheet Master Values
B5: Trade Type | F5: Tariff (incl. Misc) + description | K5: UOM mapping to Tariff Category | AP5: SLAB mapping to UOM | AY5: Cargo type mapping to UOM | BH5: Container size mapping to UOM | BO5: Slab from/to mapping to Slab
B6: Trade Type code | C6: Trade Type Description | F6: Tariff | G6: Tariff description | H6: UOM | K6: {=TRANSPOSE(F7:F36)} -> ADMIN - Miscellaneous (Any documentation fee e.g. manual doc fee / certificate issuance fee / amendments fee etc.) | L6: BOL - B/L amendment fee | M6: BOL - B/L fee | N6: BOL - Miscellaneous | O6: BOL - Switch B/L fee | P6: CUSTOMS - Customs clearance/ brokerage fees | Q6: CUSTOMS - Customs inspection fees | R6: DC - Dubai Chamber of Commerce attestation & certifications | S6: DM - Dubai Municipality Permits and Inspections | T6: DM - Dubai Municipality Product Registration Fees | U6: DO - D/O fee | V6: DO - Miscellaneous | W6: LD - Demurrage/Detention charge | X6: MISC - Any sea container charge not within standardized tariff categories | Y6: MOCCAE - MOCCAE clearances | Z6: MOH - Ministry of Health MOH Permit and Approvals | AA6: SEAL - Seal charge | AB6: SERVICE - Miscellaneous | AC6: SERVICE - Monitoring charge | AD6: SERVICE - Overweight surcharge | AE6: SERVICE - Use of special gear surcharge | AF6: SERVICE - Weighment at port charge | AG6: SHIFT - Inter terminal transfer charge | AH6: SHIFT - Lift on – lift off charge (TLUC) | AI6: SHIFT - Miscellaneous | AJ6: LCL Handling | AK6: LCL Storage Covered | AL6: LCL Miscellaneous Charges | AM6: LCL Storage Open | AN6: THC - Terminal handling charge | AP6: Per Container | AQ6: Per Document | AR6: Per Container/Day | AS6: Per Freight Ton | AT6: =$C$24 -> Per Freight Ton/Day | AU6: Per Seal | AY6: Per Container | AZ6: Per Document | BA6: Per Container/Day | BB6: Per Freight Ton | BC6: =$C$24 -> Per Freight Ton/Day | BD6: Per Seal | BH6: Per Container | BI6: Per Document | BJ6: Per Container/Day | BK6: Per Freight Ton | BL6: =$C$24 -> Per Freight Ton/Day | BM6: Per Seal | BO6: Single | BP6: Multiple
B7: I | C7: Import | F7: ADMIN - Miscellaneous (Any documentation fee e.g. manual doc fee / certificate issuance fee / amendments fee etc.) | G7: Mandatory manual description: Insert in column "D" | H7: All UOM options | K7: =$C$19 -> Per Container | L7: =$C$21 -> Per Document | M7: =$C$21 -> Per Document | N7: =$C$21 -> Per Document | O7: =$C$21 -> Per Document | P7: =$C$21 -> Per Document | Q7: =$C$19 -> Per Container | R7: =$C$21 -> Per Document | S7: =$C$19 -> Per Container | T7: =$C$19 -> Per Container | U7: =$C$21 -> Per Document | V7: =$C$21 -> Per Document | W7: =$C$20 -> Per Container/Day | X7: =$C$19 -> Per Container | Y7: =$C$21 -> Per Document | Z7: =$C$21 -> Per Document | AA7: =$C$22 -> Per Seal | AB7: =$C$19 -> Per Container | AC7: =$C$19 -> Per Container | AD7: =$C$19 -> Per Container | AE7: =$C$19 -> Per Container | AF7: =$C$19 -> Per Container | AG7: =$C$19 -> Per Container | AH7: =$C$19 -> Per Container | AI7: =$C$19 -> Per Container | AJ7: =$C$23 -> Per Freight Ton | AK7: =$C$24 -> Per Freight Ton/Day | AL7: =$C$19 -> Per Container | AM7: =$C$24 -> Per Freight Ton/Day | AN7: =$C$19 -> Per Container | AP7: Single | AQ7: Single | AR7: Single | AS7: Single | AT7: Single | AU7: Single | AY7: =$C$37 -> Dry - general/FAK | AZ7: =$C$37 -> Dry - general/FAK | BA7: =$C$37 -> Dry - general/FAK | BB7: =$C$37 -> Dry - general/FAK | BC7: =$C$37 -> Dry - general/FAK | BD7: =$C$37 -> Dry - general/FAK | BH7: =C28 -> 20 | BI7: =BH7 -> 20 | BJ7: =$C$28 -> 20 | BK7: =$C$28 -> 20 | BL7: =$C$28 -> 20 | BM7: =$C$28 -> 20 | BP7: 1
B8: E | C8: Export | F8: BOL - B/L amendment fee | G8: Bill of Lading amendment charge | H8: =C$21 -> Per Document | K8: =$C$21 -> Per Document | Q8: =$C$21 -> Per Document | S8: =$C$21 -> Per Document | T8: =$C$21 -> Per Document | X8: =$C$21 -> Per Document | AB8: =$C$20 -> Per Container/Day | AC8: =$C$20 -> Per Container/Day | AL8: =$C$21 -> Per Document | AP8: Multiple | AQ8: Multiple | AR8: Multiple | AS8: Multiple | AT8: Multiple | AU8: Multiple | AY8: =$C$38 -> Reefer | AZ8: =$C$38 -> Reefer | BA8: =$C$38 -> Reefer | BB8: =$C$38 -> Reefer | BC8: =$C$38 -> Reefer | BD8: =$C$38 -> Reefer | BH8: =C29 -> 40 | BI8: =BH8 -> 40 | BJ8: =$C$29 -> 40 | BK8: =$C$29 -> 40 | BL8: =$C$29 -> 40 | BM8: =$C$29 -> 40 | BP8: 2
F9: BOL - B/L fee | G9: Bill of Lading issuance charge | H9: =C$21 -> Per Document | K9: =$C$20 -> Per Container/Day | Q9: =$C$20 -> Per Container/Day | S9: =$C$20 -> Per Container/Day | T9: =$C$20 -> Per Container/Day | X9: =$C$20 -> Per Container/Day | AB9: =$C$23 -> Per Freight Ton | AL9: =$C$20 -> Per Container/Day | AY9: =$C$39 -> Hazardous | AZ9: =$C$39 -> Hazardous | BA9: =$C$39 -> Hazardous | BB9: =$C$39 -> Hazardous | BC9: =$C$39 -> Hazardous | BD9: =$C$39 -> Hazardous | BH9: =C30 -> 45 | BI9: =BH9 -> 45 | BJ9: =$C$30 -> 45 | BK9: =$C$30 -> 45 | BL9: =$C$30 -> 45 | BM9: =$C$30 -> 45 | BP9: 3
F10: BOL - Miscellaneous | G10: Mandatory manual description: Insert in column "D" | H10: =C$21 -> Per Document | K10: =$C$22 -> Per Seal | Q10: =$C$22 -> Per Seal | S10: =$C$22 -> Per Seal | T10: =$C$22 -> Per Seal | X10: =$C$22 -> Per Seal | AB10: =$C$24 -> Per Freight Ton/Day | AL10: =$C$23 -> Per Freight Ton | AY10: =$C$40 -> Out-of-gauge | AZ10: =$C$40 -> Out-of-gauge | BA10: =$C$40 -> Out-of-gauge | BB10: =$C$40 -> Out-of-gauge | BC10: =$C$40 -> Out-of-gauge | BD10: =$C$40 -> Out-of-gauge | BH10: =C31 -> N/A | BI10: =BH10 -> N/A | BJ10: =$C$31 -> N/A | BK10: =$C$31 -> N/A | BL10: =$C$31 -> N/A | BM10: =$C$31 -> N/A | BP10: 4
B11: Tariff Slabs | F11: BOL - Switch B/L fee | G11: Switch Bill of Lading charge | H11: =C$21 -> Per Document | K11: =$C$23 -> Per Freight Ton | Q11: =$C$23 -> Per Freight Ton | S11: =$C$23 -> Per Freight Ton | T11: =$C$23 -> Per Freight Ton | X11: =$C$23 -> Per Freight Ton | AL11: =$C$24 -> Per Freight Ton/Day | AY11: =$C$41 -> Misc | AZ11: =$C$41 -> Misc | BA11: =$C$41 -> Misc | BB11: =$C$41 -> Misc | BC11: =$C$41 -> Misc | BD11: =$C$41 -> Misc | BH11: =C32 -> All - Any container size | BI11: =BH11 -> All - Any container size | BJ11: =$C$32 -> All - Any container size | BK11: =$C$32 -> All - Any container size | BL11: =$C$32 -> All - Any container size | BM11: =$C$32 -> All - Any container size | BP11: 5
B12: Tariff Slab Code | C12: Tariff Slab Description | F12: CUSTOMS - Customs clearance/ brokerage fees | G12: Customs clearance/ brokerage fees | H12: =C$21 -> Per Document | K12: =$C$24 -> Per Freight Ton/Day | Q12: =$C$24 -> Per Freight Ton/Day | S12: =$C$24 -> Per Freight Ton/Day | T12: =$C$24 -> Per Freight Ton/Day | X12: =$C$24 -> Per Freight Ton/Day | BP12: 6
B13: S | C13: Single | F13: CUSTOMS - Customs inspection fees | G13: Customs inspection fees (Import & Export) | H13: All UOM options | BP13: 7
B14: M | C14: Multiple | F14: DC - Dubai Chamber of Commerce attestation & certifications | G14: Dubai Chamber of Commerce attestation & certifications | H14: =C$21 -> Per Document | BP14: 8
F15: DM - Dubai Municipality Permits and Inspections | G15: Dubai Municipality Permits and Inspections | H15: All UOM options | BP15: 9
F16: DM - Dubai Municipality Product Registration Fees | G16: Dubai Municipality Product Registration Fees (Montaji) | H16: All UOM options | BP16: 10
B17: UOM | F17: DO - D/O fee | G17: Delivery Order issuance Charge | H17: =C$21 -> Per Document | BP17: 11
B18: UOM Code | C18: UOM Description | F18: DO - Miscellaneous | G18: Mandatory manual description: Insert in column "D" | H18: =C$21 -> Per Document | BP18: 12
B19: PC | C19: Per Container | F19: LD - Demurrage/Detention charge | G19: Container Line Demurrage / Detention charge | H19: =C$20 -> Per Container/Day | BP19: 13
B20: PCD | C20: Per Container/Day | F20: MISC - Any sea container charge not within standardized tariff categories | G20: Mandatory manual description: Insert in column "D" | H20: All UOM options | BP20: 14
B21: PD | C21: Per Document | F21: MOCCAE - MOCCAE clearances | G21: MOCCAE clearances (Ministry of Climate Change and Environment) | H21: =C$21 -> Per Document | BP21: 15
B22: PS | C22: Per Seal | F22: MOH - Ministry of Health MOH Permit and Approvals | G22: Ministry of Health MOH Permit and Approvals | H22: =C$21 -> Per Document | BP22: 16
B23: PFRT | C23: Per Freight Ton | F23: SEAL - Seal charge | G23: Container Seal charge | H23: =$C$22 -> Per Seal | BP23: 17
B24: PFRTD | C24: Per Freight Ton/Day | F24: SERVICE - Miscellaneous | G24: Mandatory manual description: Insert in column "D" | H24: =$C$19&"; "&$C$20&"; "&$C$23&"; "&$C$24 -> Per Container; Per Container/Day; Per Freight Ton; Per Freight Ton/Day | BP24: 18
F25: SERVICE - Monitoring charge | G25: Container monitoring / inspection charge (e.g. reefer/ hazardous) | H25: =$C$19&"; "&$C$20 -> Per Container; Per Container/Day | BP25: 19
B26: Container size | F26: SERVICE - Overweight surcharge | G26: Container overweight surcharge | H26: =C$19 -> Per Container | BP26: 20
B27: UOM Code | C27: UOM Description | F27: SERVICE - Use of special gear surcharge | G27: Special gear surcharge | H27: =$C$19 -> Per Container | BP27: 21
B28: 20_ftr | C28: 20 | F28: SERVICE - Weighment at port charge | G28: Container weighment charge | H28: =C$19 -> Per Container | BP28: 22
B29: 40_ftr | C29: 40 | F29: SHIFT - Inter terminal transfer charge | G29: Charge for Inter-Terminal transfer of Containers | H29: =$C$19 -> Per Container | BP29: 23
B30: 45_ftr | C30: 45 | F30: SHIFT - Lift on – lift off charge (TLUC) | G30: Charge for Loading and Unloading containers To / From Trucks within Port | H30: =C$19 -> Per Container | BP30: 24
B31: NA | C31: N/A | F31: SHIFT - Miscellaneous | G31: Mandatory manual description: Insert in column "D" | H31: =$C$19 -> Per Container | BP31: 25
B32: All | C32: All - Any container size | F32: LCL Handling | G32: LCL Cargo Handling Charge | H32: =C$23 -> Per Freight Ton | BP32: 26
F33: LCL Storage Covered | G33: LCL Cargo Covered storage charge | H33: =C$24 -> Per Freight Ton/Day | BP33: 27
F34: LCL Miscellaneous Charges | G34: Mandatory manual description: Insert in column "D" | H34: =$C$19&"; "&$C$20&"; "&$C$21&"; "&$C$23&"; "&$C$24 -> Per Container; Per Container/Day; Per Document; Per Freight Ton; Per Freight Ton/Day | BP34: 28
B35: Cargo type | F35: LCL Storage Open | G35: LCL Cargo Open Storage charge | H35: =C$24 -> Per Freight Ton/Day | BP35: 29
B36: UOM Code | C36: UOM Description | F36: THC - Terminal handling charge | G36: Terminal Handling Charge at Port | H36: =C$19 -> Per Container | BP36: 30
B37: DRY | C37: Dry - general/FAK | BP37: 31
B38: REEFER | C38: Reefer | BP38: 32
B39: HAZ | C39: Hazardous | BP39: 33
B40: OOG | C40: Out-of-gauge | BP40: 34
B41: OTHERS | C41: Misc | BP41: 35
BP42: 36
BP43: 37
BP44: 38
B45: Currency types | BP45: 39
B46: Tariff Slab Code | C46: Tariff Slab Description | BP46: 40
B47: AED | C47: AED | BP47: 41
B48: USD | C48: USD | BP48: 42
BP49: 43
BP50: 44
B51: VAT types | D51: Percentage | BP51: 45
B52: UOM Code | C52: UOM Description | D52: 0 | BP52: 46
B53: EXEMPT | C53: Exempted | D53: 0 | BP53: 47
B54: ZERO | C54: Zero rated | D54: 0.05 | BP54: 48
B55: STD | C55: Standard rated | BP55: 49
BP56: 50
BP57: 51
B58: Slab variable | D58: UOM Description Single | BP58: 52
B59: Slab variable code | C59: UOM Description Multiple | BP59: 53
B60: PC_SLAB | C60: Per Container | BP60: 54
B61: PDAY | C61: Per Day | BP61: 55
B62: PDAY | C62: Per Document | BP62: 56
B63: PS | C63: Per Seal | BP63: 62
B64: PFRT_SLAB | C64: Per Freight Ton | BP64: 63
BP65: 64
BP66: 65
BP67: 66
BP68: 67
BP69: 68
BP70: 69
BP71: 70
BP72: 71
BP73: 72
BP74: 73
BP75: 74
BP76: 75
... BP1002: 999999
